BEGIN:VCALENDAR
VERSION:2.0
PRODID:-//eventon.com NONSGML v1.0//EN
CALSCALE:GREGORIAN
METHOD:PUBLISH
BEGIN:VEVENT
UID:69e605b46d29f
DTSTAMP:20260420T105340Z
DTSTART:20240727
DTEND:20240728
LOCATION:
SUMMARY:RACING DAYS – RUPERT HOLLAUS RENNEN
DESCRIPTION:RACING DAYS – RUPERT HOLLAUS RENNEN\nhttps://www.paddockx.at/
 events/racing-days-rupert-hollaus-rennen/
URL:https://www.paddockx.at/events/racing-days-rupert-hollaus-rennen/
END:VEVENT
END:VCALENDAR