BEGIN:VCALENDAR
VERSION:2.0
PRODID:-//eventon.com NONSGML v1.0//EN
CALSCALE:GREGORIAN
METHOD:PUBLISH
BEGIN:VEVENT
UID:69e74a6b83760
DTSTAMP:20260421T095907Z
DTSTART:20260328
DTEND:20260329
LOCATION:
SUMMARY:Josefimarkt 2026
DESCRIPTION:Josefimarkt 2026\nhttps://www.paddockx.at/events/josefimarkt-20
 26/
URL:https://www.paddockx.at/events/josefimarkt-2026/
END:VEVENT
END:VCALENDAR