BEGIN:VCALENDAR
VERSION:2.0
PRODID:-//eventon.com NONSGML v1.0//EN
CALSCALE:GREGORIAN
METHOD:PUBLISH
BEGIN:VEVENT
UID:69e786fc212d7
DTSTAMP:20260421T141732Z
DTSTART:20261006T143100Z
DTEND:20261007T143100Z
LOCATION:
SUMMARY:Race Car Club Testtag Salzburgring 2026
DESCRIPTION:Race Car Club Testtag Salzburgring 2026\nhttps://www.paddockx.a
 t/events/race-car-club-testtag-salzburgring-2026/
URL:https://www.paddockx.at/events/race-car-club-testtag-salzburgring-2026/
END:VEVENT
END:VCALENDAR