BEGIN:VCALENDAR
VERSION:2.0
PRODID:-//eventon.com NONSGML v1.0//EN
CALSCALE:GREGORIAN
METHOD:PUBLISH
BEGIN:VEVENT
UID:69e74aca57edd
DTSTAMP:20260421T100042Z
DTSTART:20260821
DTEND:20260822
LOCATION:
SUMMARY:MSC Simbach Freies-Fahren Salzburgring 2026
DESCRIPTION:MSC Simbach Freies-Fahren Salzburgring 2026\nhttps://www.paddoc
 kx.at/events/msc-simbach-freies-fahren-salzburgring-2026/
URL:https://www.paddockx.at/events/msc-simbach-freies-fahren-salzburgring-2026/
END:VEVENT
END:VCALENDAR