BEGIN:VCALENDAR
VERSION:2.0
PRODID:-//eventon.com NONSGML v1.0//EN
CALSCALE:GREGORIAN
METHOD:PUBLISH
BEGIN:VEVENT
UID:69e74927aeae7
DTSTAMP:20260421T095343Z
DTSTART:20251002
DTEND:20251003
LOCATION:
SUMMARY:LEGENDS GRAND PRIX 2025
DESCRIPTION:LEGENDS GRAND PRIX 2025\nhttps://www.paddockx.at/events/legends
 -grand-prix-2025/
URL:https://www.paddockx.at/events/legends-grand-prix-2025/
END:VEVENT
END:VCALENDAR