BEGIN:VCALENDAR
VERSION:2.0
PRODID:-//eventon.com NONSGML v1.0//EN
CALSCALE:GREGORIAN
METHOD:PUBLISH
BEGIN:VEVENT
UID:69e748e3a8bd2
DTSTAMP:20260421T095235Z
DTSTART:20250721
DTEND:20250722
LOCATION:
SUMMARY:Team Motorsport Trackday Salzburgring 2025
DESCRIPTION:Team Motorsport Trackday Salzburgring 2025\nhttps://www.paddock
 x.at/events/team-motorsport-trackday-salzburgring-2025/
URL:https://www.paddockx.at/events/team-motorsport-trackday-salzburgring-2025/
END:VEVENT
END:VCALENDAR