BEGIN:VCALENDAR
VERSION:2.0
PRODID:-//eventon.com NONSGML v1.0//EN
CALSCALE:GREGORIAN
METHOD:PUBLISH
BEGIN:VEVENT
UID:69e9d6ad8b0a4
DTSTAMP:20260423T082205Z
DTSTART:20250616
DTEND:20250617
LOCATION:
SUMMARY:Rennstreckentraining mit Auer Racing Salzburgring 2025
DESCRIPTION:Rennstreckentraining mit Auer Racing Salzburgring 2025\nhttps:/
 /www.paddockx.at/events/rennstreckentraining-mit-auer-racing-salzburgring-2
 025/
URL:https://www.paddockx.at/events/rennstreckentraining-mit-auer-racing-salzburgring-2025/
END:VEVENT
END:VCALENDAR