BEGIN:VCALENDAR
VERSION:2.0
PRODID:-//eventon.com NONSGML v1.0//EN
CALSCALE:GREGORIAN
METHOD:PUBLISH
BEGIN:VEVENT
UID:69e65c22bd44d
DTSTAMP:20260420T170226Z
DTSTART:20250627
DTEND:20250628
LOCATION:
SUMMARY:Formel 1 Großer Preis von Österreich 2025
DESCRIPTION:Formel 1 Großer Preis von Österreich 2025\nhttps://www.paddoc
 kx.at/events/formel-1-grosser-preis-von-oesterreich-2025/
URL:https://www.paddockx.at/events/formel-1-grosser-preis-von-oesterreich-2025/
END:VEVENT
END:VCALENDAR