BEGIN:VCALENDAR
VERSION:2.0
PRODID:-//eventon.com NONSGML v1.0//EN
CALSCALE:GREGORIAN
METHOD:PUBLISH
BEGIN:VEVENT
UID:69e8a623a2107
DTSTAMP:20260422T104243Z
DTSTART:20241004
DTEND:20241005
LOCATION:
SUMMARY:TTF-Trackday
DESCRIPTION:TTF-Trackday\nhttps://www.paddockx.at/events/ttf-trackday/
URL:https://www.paddockx.at/events/ttf-trackday/
END:VEVENT
END:VCALENDAR