BEGIN:VCALENDAR
VERSION:2.0
PRODID:-//eventon.com NONSGML v1.0//EN
CALSCALE:GREGORIAN
METHOD:PUBLISH
BEGIN:VEVENT
UID:69ea9243c4edf
DTSTAMP:20260423T214227Z
DTSTART:20240916
DTEND:20240917
LOCATION:
SUMMARY:DRIVING EXPERIENCE BY PURESPORT
DESCRIPTION:DRIVING EXPERIENCE BY PURESPORT\nhttps://www.paddockx.at/events
 /driving-experience-by-puresport/
URL:https://www.paddockx.at/events/driving-experience-by-puresport/
END:VEVENT
END:VCALENDAR